BEGIN:VCALENDAR
VERSION:2.0
PRODID:-//5th Avenue South - ECPv5.16.1.1//NONSGML v1.0//EN
CALSCALE:GREGORIAN
METHOD:PUBLISH
X-WR-CALNAME:5th Avenue South
X-ORIGINAL-URL:https://www.fifthavenuesouth.com
X-WR-CALDESC:Events for 5th Avenue South
BEGIN:VTIMEZONE
TZID:America/New_York
BEGIN:DAYLIGHT
TZOFFSETFROM:-0500
TZOFFSETTO:-0400
TZNAME:EDT
DTSTART:20260308T070000
END:DAYLIGHT
BEGIN:STANDARD
TZOFFSETFROM:-0400
TZOFFSETTO:-0500
TZNAME:EST
DTSTART:20261101T060000
END:STANDARD
END:VTIMEZONE
BEGIN:VEVENT
DTSTART;TZID=America/New_York:20260514T183000
DTEND;TZID=America/New_York:20260514T203000
DTSTAMP:20260420T093341
CREATED:20251229T203505Z
LAST-MODIFIED:20251229T203505Z
UID:11238-1778783400-1778790600@www.fifthavenuesouth.com
SUMMARY:Evening on Fifth 5th
DESCRIPTION:An array of live musical performances up and down the sidewalks of 5th Avenue South\, plus dining\, shopping\, and more.
URL:https://www.fifthavenuesouth.com/event-calendar/evening-on-fifth-5th-2/
LOCATION:5th Avenue south\, United States
CATEGORIES:ENTERTAINMENT,FASBID
END:VEVENT
END:VCALENDAR