BEGIN:VCALENDAR
VERSION:2.0
PRODID:-//5th Avenue South - ECPv5.16.1.1//NONSGML v1.0//EN
CALSCALE:GREGORIAN
METHOD:PUBLISH
X-WR-CALNAME:5th Avenue South
X-ORIGINAL-URL:https://www.fifthavenuesouth.com
X-WR-CALDESC:Events for 5th Avenue South
BEGIN:VTIMEZONE
TZID:America/New_York
BEGIN:DAYLIGHT
TZOFFSETFROM:-0500
TZOFFSETTO:-0400
TZNAME:EDT
DTSTART:20260308T070000
END:DAYLIGHT
BEGIN:STANDARD
TZOFFSETFROM:-0400
TZOFFSETTO:-0500
TZNAME:EST
DTSTART:20261101T060000
END:STANDARD
END:VTIMEZONE
BEGIN:VEVENT
DTSTART;TZID=America/New_York:20260704T090000
DTEND;TZID=America/New_York:20260704T100000
DTSTAMP:20260420T091408
CREATED:20251229T203832Z
LAST-MODIFIED:20251229T203832Z
UID:11244-1783155600-1783159200@www.fifthavenuesouth.com
SUMMARY:Fourth of July Parade
DESCRIPTION:The dazzling floats start at 5th Ave. S. at 3rd St. S. and make their way down 5th Ave. S.\, down 8th St. S. ending in front of City Hall.
URL:https://www.fifthavenuesouth.com/event-calendar/fourth-of-july-parade/
LOCATION:3rd Street S & 5th Avenue S
CATEGORIES:ENTERTAINMENT
END:VEVENT
END:VCALENDAR